0.350000
0.000000
0.000000
-0.350000
480200.175000
4226599.825000
