0.350000
0.000000
0.000000
-0.350000
483000.175000
4295199.825000
