0.350000
0.000000
0.000000
-0.350000
485800.175000
4341399.825000
