0.350000
0.000000
0.000000
-0.350000
487200.175000
4240599.825000
