0.350000
0.000000
0.000000
-0.350000
488600.175000
4289599.825000
