0.350000
0.000000
0.000000
-0.350000
491400.175000
4264399.825000
