0.350000
0.000000
0.000000
-0.350000
494200.175000
4247599.825000
