0.350000
0.000000
0.000000
-0.350000
495600.175000
4254599.825000
