0.350000
0.000000
0.000000
-0.350000
505400.175000
4316199.825000
