0.350000
0.000000
0.000000
-0.350000
506800.175000
4337199.825000
