0.350000
0.000000
0.000000
-0.350000
508200.175000
4327399.825000
