0.350000
0.000000
0.000000
-0.350000
511000.175000
4346999.825000
