0.350000
0.000000
0.000000
-0.350000
512400.175000
4323199.825000
