0.350000
0.000000
0.000000
-0.350000
515200.175000
4313399.825000
