0.350000
0.000000
0.000000
-0.350000
516600.175000
4351199.825000
