0.350000
0.000000
0.000000
-0.350000
525000.175000
4342799.825000
