0.350000
0.000000
0.000000
-0.350000
527800.175000
4345599.825000
