0.350000
0.000000
0.000000
-0.350000
530600.175000
4349799.825000
