0.350000
0.000000
0.000000
-0.350000
532000.175000
4344199.825000
