0.350000
0.000000
0.000000
-0.350000
540400.175000
4359599.825000
