0.350000
0.000000
0.000000
-0.350000
544600.175000
4379199.825000
