0.350000
0.000000
0.000000
-0.350000
548800.175000
4380599.825000
