0.350000
0.000000
0.000000
-0.350000
550200.175000
4384799.825000
