0.350000
0.000000
0.000000
-0.350000
551600.175000
4372199.825000
