0.350000
0.000000
0.000000
-0.350000
554400.175000
4367999.825000
