0.350000
0.000000
0.000000
-0.350000
555800.175000
4376399.825000
