0.350000
0.000000
0.000000
-0.350000
558600.175000
4366599.825000
