0.35000000000000
0.00000000000000
0.00000000000000
-0.35000000000000
558600.17500000004657
4401599.82500000018626
