0.35000000000000
0.00000000000000
0.00000000000000
-0.35000000000000
562800.17500000004657
4409999.82500000018626
