0.350000
0.000000
0.000000
-0.350000
564200.175000
4391799.825000
