0.35000000000000
0.00000000000000
0.00000000000000
-0.35000000000000
565600.17500000004657
4411399.82500000018626
