0.35000000000000
0.00000000000000
0.00000000000000
-0.35000000000000
567000.17500000004657
4402999.82500000018626
