0.35000000000000
0.00000000000000
0.00000000000000
-0.35000000000000
571200.17500000004657
4395999.82500000018626
