0.35000000000000
0.00000000000000
0.00000000000000
-0.35000000000000
572600.17500000004657
4433799.82500000018626
