0.35000000000000
0.00000000000000
0.00000000000000
-0.35000000000000
574000.17500000004657
4425399.82500000018626
