0.35000000000000
0.00000000000000
0.00000000000000
-0.35000000000000
576800.17500000004657
4429599.82500000018626
