0.35000000000000
0.00000000000000
0.00000000000000
-0.35000000000000
578200.17500000004657
4414199.82500000018626
