0.35000000000000
0.00000000000000
0.00000000000000
-0.35000000000000
581000.17500000004657
4421199.82500000018626
