0.35000000000000
0.00000000000000
0.00000000000000
-0.35000000000000
582400.17500000004657
4461799.82500000018626
