0.35000000000000
0.00000000000000
0.00000000000000
-0.35000000000000
586600.17500000004657
4471599.82500000018626
