0.35000000000000
0.00000000000000
0.00000000000000
-0.35000000000000
588000.17500000004657
4478599.82500000018626
