0.35000000000000
0.00000000000000
0.00000000000000
-0.35000000000000
590800.17500000004657
4500999.82500000018626
