0.35000000000000
0.00000000000000
0.00000000000000
-0.35000000000000
597800.17500000004657
4505199.82500000018626
