0.35000000000000
0.00000000000000
0.00000000000000
-0.35000000000000
620200.17500000004657
4495399.82500000018626
