0.35000000000000
0.00000000000000
0.00000000000000
-0.35000000000000
624400.17500000004657
4493999.82500000018626
