0.5
0
0
-0.5
2380000.25
1407499.75
