0.5
0
0
-0.5
2382500.25
1404999.75
