0.5
0
0
-0.5
2477500.25
1387499.75
