0.5
0
0
-0.5
2360000.25
1384999.75
