0.5
0
0
-0.5
2442500.25
1379999.75
